BEGIN:VCALENDAR
VERSION:2.0
PRODID:-//KOMBRAI - ECPv6.15.20//NONSGML v1.0//EN
CALSCALE:GREGORIAN
METHOD:PUBLISH
X-ORIGINAL-URL:https://kombraibookstore.gr
X-WR-CALDESC:Events for KOMBRAI
REFRESH-INTERVAL;VALUE=DURATION:PT1H
X-Robots-Tag:noindex
X-PUBLISHED-TTL:PT1H
BEGIN:VTIMEZONE
TZID:Europe/Athens
BEGIN:DAYLIGHT
TZOFFSETFROM:+0200
TZOFFSETTO:+0300
TZNAME:EEST
DTSTART:20230326T010000
END:DAYLIGHT
BEGIN:STANDARD
TZOFFSETFROM:+0300
TZOFFSETTO:+0200
TZNAME:EET
DTSTART:20231029T010000
END:STANDARD
BEGIN:DAYLIGHT
TZOFFSETFROM:+0200
TZOFFSETTO:+0300
TZNAME:EEST
DTSTART:20240331T010000
END:DAYLIGHT
BEGIN:STANDARD
TZOFFSETFROM:+0300
TZOFFSETTO:+0200
TZNAME:EET
DTSTART:20241027T010000
END:STANDARD
BEGIN:DAYLIGHT
TZOFFSETFROM:+0200
TZOFFSETTO:+0300
TZNAME:EEST
DTSTART:20250330T010000
END:DAYLIGHT
BEGIN:STANDARD
TZOFFSETFROM:+0300
TZOFFSETTO:+0200
TZNAME:EET
DTSTART:20251026T010000
END:STANDARD
END:VTIMEZONE
BEGIN:VEVENT
DTSTART;TZID=Europe/Athens:20241010T193000
DTEND;TZID=Europe/Athens:20241010T230000
DTSTAMP:20260420T005619
CREATED:20241004T141422Z
LAST-MODIFIED:20241004T141422Z
UID:112971-1728588600-1728601200@kombraibookstore.gr
SUMMARY:Η μοίρα των ζώων_Στέφανος Ρέγκας
DESCRIPTION:Οι εκδόσεις Πλήθος παρουσιάζουν το βιβλίο του Στέφανου Ρέγκα “Η μοίρα των ζώων” στο βιβλιοπωλείο Κομπραί (Διδότου 34\, Εξάρχεια).\nΘα μιλήσουν οι:– Αθηνά Μαρκοπούλου (δρ. νεοελληνικής λογοτεχνίας)– Τώνια Τζιρίτα-Ζαχαράτου (ποιήτρια\, υπ. δρ. συγκριτικής λογοτεχνίας)– Παύλος Τριανταφύλλου (πολυπράγμων φίλος)\nΘα ακολουθήσει dj set τρυφερών αισθημάτων από τον Σούπα.
URL:https://kombraibookstore.gr/event/i-moira-ton-zoon_stefanos-regkas/
CATEGORIES:Featured
ATTACH;FMTTYPE=image/jpeg:https://kombraibookstore.gr/wp-content/uploads/2024/10/461425883_544810624715519_2258208074016834111_n.jpg
END:VEVENT
END:VCALENDAR